BEGIN:VCALENDAR
VERSION:2.0
PRODID:-//Corps Hubertia München - ECPv6.15.15//NONSGML v1.0//EN
CALSCALE:GREGORIAN
METHOD:PUBLISH
X-ORIGINAL-URL:https://www.corps-hubertia.com
X-WR-CALDESC:Veranstaltungen für Corps Hubertia München
REFRESH-INTERVAL;VALUE=DURATION:PT1H
X-Robots-Tag:noindex
X-PUBLISHED-TTL:PT1H
BEGIN:VTIMEZONE
TZID:Europe/Berlin
BEGIN:DAYLIGHT
TZOFFSETFROM:+0100
TZOFFSETTO:+0200
TZNAME:CEST
DTSTART:20250330T010000
END:DAYLIGHT
BEGIN:STANDARD
TZOFFSETFROM:+0200
TZOFFSETTO:+0100
TZNAME:CET
DTSTART:20251026T010000
END:STANDARD
BEGIN:DAYLIGHT
TZOFFSETFROM:+0100
TZOFFSETTO:+0200
TZNAME:CEST
DTSTART:20260329T010000
END:DAYLIGHT
BEGIN:STANDARD
TZOFFSETFROM:+0200
TZOFFSETTO:+0100
TZNAME:CET
DTSTART:20261025T010000
END:STANDARD
BEGIN:DAYLIGHT
TZOFFSETFROM:+0100
TZOFFSETTO:+0200
TZNAME:CEST
DTSTART:20270328T010000
END:DAYLIGHT
BEGIN:STANDARD
TZOFFSETFROM:+0200
TZOFFSETTO:+0100
TZNAME:CET
DTSTART:20271031T010000
END:STANDARD
END:VTIMEZONE
BEGIN:VEVENT
DTSTART;VALUE=DATE:20260227
DTEND;VALUE=DATE:20260302
DTSTAMP:20260422T154129
CREATED:20260211T174328Z
LAST-MODIFIED:20260211T174328Z
UID:2171-1772150400-1772409599@www.corps-hubertia.com
SUMMARY:Chiemgau-Huberten-Wochenende
DESCRIPTION:
URL:https://www.corps-hubertia.com/event/chiemgau-huberten-wochenende/
END:VEVENT
BEGIN:VEVENT
DTSTART;VALUE=DATE:20260314
DTEND;VALUE=DATE:20260315
DTSTAMP:20260422T154129
CREATED:20251231T154214Z
LAST-MODIFIED:20251231T154214Z
UID:2162-1773446400-1773532799@www.corps-hubertia.com
SUMMARY:Schlachtfest
DESCRIPTION:
URL:https://www.corps-hubertia.com/event/schlachtfest-2/
LOCATION:adH Hubertia
END:VEVENT
END:VCALENDAR