BEGIN:VCALENDAR
VERSION:2.0
PRODID:-//Corps Hubertia München - ECPv6.15.15//NONSGML v1.0//EN
CALSCALE:GREGORIAN
METHOD:PUBLISH
X-WR-CALNAME:Corps Hubertia München
X-ORIGINAL-URL:https://www.corps-hubertia.com
X-WR-CALDESC:Veranstaltungen für Corps Hubertia München
REFRESH-INTERVAL;VALUE=DURATION:PT1H
X-Robots-Tag:noindex
X-PUBLISHED-TTL:PT1H
BEGIN:VTIMEZONE
TZID:Europe/Berlin
BEGIN:DAYLIGHT
TZOFFSETFROM:+0100
TZOFFSETTO:+0200
TZNAME:CEST
DTSTART:20250330T010000
END:DAYLIGHT
BEGIN:STANDARD
TZOFFSETFROM:+0200
TZOFFSETTO:+0100
TZNAME:CET
DTSTART:20251026T010000
END:STANDARD
BEGIN:DAYLIGHT
TZOFFSETFROM:+0100
TZOFFSETTO:+0200
TZNAME:CEST
DTSTART:20260329T010000
END:DAYLIGHT
BEGIN:STANDARD
TZOFFSETFROM:+0200
TZOFFSETTO:+0100
TZNAME:CET
DTSTART:20261025T010000
END:STANDARD
BEGIN:DAYLIGHT
TZOFFSETFROM:+0100
TZOFFSETTO:+0200
TZNAME:CEST
DTSTART:20270328T010000
END:DAYLIGHT
BEGIN:STANDARD
TZOFFSETFROM:+0200
TZOFFSETTO:+0100
TZNAME:CET
DTSTART:20271031T010000
END:STANDARD
END:VTIMEZONE
BEGIN:VEVENT
DTSTART;TZID=Europe/Berlin:20260109T180000
DTEND;TZID=Europe/Berlin:20260109T233000
DTSTAMP:20260422T183040
CREATED:20251231T153241Z
LAST-MODIFIED:20251231T153241Z
UID:2147-1767981600-1768001400@www.corps-hubertia.com
SUMMARY:Neujahrsfondue (❤️)
DESCRIPTION:
URL:https://www.corps-hubertia.com/event/neujahrsfondue-%e2%9d%a4%ef%b8%8f/
LOCATION:adH Hubertia
END:VEVENT
BEGIN:VEVENT
DTSTART;TZID=Europe/Berlin:20260116T190000
DTEND;TZID=Europe/Berlin:20260116T233000
DTSTAMP:20260422T183040
CREATED:20251231T153352Z
LAST-MODIFIED:20251231T153352Z
UID:2149-1768590000-1768606200@www.corps-hubertia.com
SUMMARY:Cocktailabend (❤️)
DESCRIPTION:
URL:https://www.corps-hubertia.com/event/cocktailabend-%e2%9d%a4%ef%b8%8f/
LOCATION:adH Hubertia
END:VEVENT
BEGIN:VEVENT
DTSTART;TZID=Europe/Berlin:20260124T200000
DTEND;TZID=Europe/Berlin:20260124T233000
DTSTAMP:20260422T183040
CREATED:20251231T153713Z
LAST-MODIFIED:20251231T153830Z
UID:2152-1769284800-1769297400@www.corps-hubertia.com
SUMMARY:Dreierkneipe
DESCRIPTION:
URL:https://www.corps-hubertia.com/event/dreierkneipe/
LOCATION:adH Hubertia
END:VEVENT
BEGIN:VEVENT
DTSTART;TZID=Europe/Berlin:20260131T180000
DTEND;TZID=Europe/Berlin:20260131T233000
DTSTAMP:20260422T183040
CREATED:20251231T153952Z
LAST-MODIFIED:20251231T154024Z
UID:2157-1769882400-1769902200@www.corps-hubertia.com
SUMMARY:MSC-Ball (❤️)
DESCRIPTION:
URL:https://www.corps-hubertia.com/event/msc-ball-%e2%9d%a4%ef%b8%8f/
LOCATION:Bayerischer Hof
END:VEVENT
END:VCALENDAR