BEGIN:VCALENDAR
VERSION:2.0
PRODID:-//Corps Hubertia München - ECPv6.15.15//NONSGML v1.0//EN
CALSCALE:GREGORIAN
METHOD:PUBLISH
X-ORIGINAL-URL:https://www.corps-hubertia.com
X-WR-CALDESC:Veranstaltungen für Corps Hubertia München
REFRESH-INTERVAL;VALUE=DURATION:PT1H
X-Robots-Tag:noindex
X-PUBLISHED-TTL:PT1H
BEGIN:VTIMEZONE
TZID:Europe/Berlin
BEGIN:DAYLIGHT
TZOFFSETFROM:+0100
TZOFFSETTO:+0200
TZNAME:CEST
DTSTART:20240331T010000
END:DAYLIGHT
BEGIN:STANDARD
TZOFFSETFROM:+0200
TZOFFSETTO:+0100
TZNAME:CET
DTSTART:20241027T010000
END:STANDARD
BEGIN:DAYLIGHT
TZOFFSETFROM:+0100
TZOFFSETTO:+0200
TZNAME:CEST
DTSTART:20250330T010000
END:DAYLIGHT
BEGIN:STANDARD
TZOFFSETFROM:+0200
TZOFFSETTO:+0100
TZNAME:CET
DTSTART:20251026T010000
END:STANDARD
BEGIN:DAYLIGHT
TZOFFSETFROM:+0100
TZOFFSETTO:+0200
TZNAME:CEST
DTSTART:20260329T010000
END:DAYLIGHT
BEGIN:STANDARD
TZOFFSETFROM:+0200
TZOFFSETTO:+0100
TZNAME:CET
DTSTART:20261025T010000
END:STANDARD
END:VTIMEZONE
BEGIN:VEVENT
DTSTART;TZID=Europe/Berlin:20251014T190000
DTEND;TZID=Europe/Berlin:20251014T200000
DTSTAMP:20260422T224249
CREATED:20251103T170404Z
LAST-MODIFIED:20251103T170404Z
UID:2113-1760468400-1760472000@www.corps-hubertia.com
SUMMARY:Antrittsessen
DESCRIPTION:
URL:https://www.corps-hubertia.com/event/antrittsessen/
END:VEVENT
BEGIN:VEVENT
DTSTART;TZID=Europe/Berlin:20251014T200000
DTEND;TZID=Europe/Berlin:20251014T200000
DTSTAMP:20260422T224249
CREATED:20251103T170457Z
LAST-MODIFIED:20251103T170457Z
UID:2115-1760472000-1760472000@www.corps-hubertia.com
SUMMARY:AntrittsCC
DESCRIPTION:
URL:https://www.corps-hubertia.com/event/antrittscc/
END:VEVENT
BEGIN:VEVENT
DTSTART;TZID=Europe/Berlin:20251018T200000
DTEND;TZID=Europe/Berlin:20251018T230000
DTSTAMP:20260422T224249
CREATED:20251103T170553Z
LAST-MODIFIED:20251103T171959Z
UID:2117-1760817600-1760828400@www.corps-hubertia.com
SUMMARY:Antrittskneipe (*)
DESCRIPTION:
URL:https://www.corps-hubertia.com/event/antrittskneipe-3/
LOCATION:adH Hubertia
END:VEVENT
BEGIN:VEVENT
DTSTART;TZID=Europe/Berlin:20251023T210000
DTEND;TZID=Europe/Berlin:20251023T210000
DTSTAMP:20260422T224249
CREATED:20251103T170639Z
LAST-MODIFIED:20251103T171924Z
UID:2119-1761253200-1761253200@www.corps-hubertia.com
SUMMARY:Semesterparty (❤️)
DESCRIPTION:
URL:https://www.corps-hubertia.com/event/semesterparty-5/
LOCATION:adh Hubertia\, Hohenstaufenstrasse 13\, München\, 80801
END:VEVENT
END:VCALENDAR