BEGIN:VCALENDAR
VERSION:2.0
PRODID:-//Corps Hubertia München - ECPv6.15.15//NONSGML v1.0//EN
CALSCALE:GREGORIAN
METHOD:PUBLISH
X-WR-CALNAME:Corps Hubertia München
X-ORIGINAL-URL:https://www.corps-hubertia.com
X-WR-CALDESC:Veranstaltungen für Corps Hubertia München
REFRESH-INTERVAL;VALUE=DURATION:PT1H
X-Robots-Tag:noindex
X-PUBLISHED-TTL:PT1H
BEGIN:VTIMEZONE
TZID:Europe/Berlin
BEGIN:DAYLIGHT
TZOFFSETFROM:+0100
TZOFFSETTO:+0200
TZNAME:CEST
DTSTART:20240331T010000
END:DAYLIGHT
BEGIN:STANDARD
TZOFFSETFROM:+0200
TZOFFSETTO:+0100
TZNAME:CET
DTSTART:20241027T010000
END:STANDARD
BEGIN:DAYLIGHT
TZOFFSETFROM:+0100
TZOFFSETTO:+0200
TZNAME:CEST
DTSTART:20250330T010000
END:DAYLIGHT
BEGIN:STANDARD
TZOFFSETFROM:+0200
TZOFFSETTO:+0100
TZNAME:CET
DTSTART:20251026T010000
END:STANDARD
BEGIN:DAYLIGHT
TZOFFSETFROM:+0100
TZOFFSETTO:+0200
TZNAME:CEST
DTSTART:20260329T010000
END:DAYLIGHT
BEGIN:STANDARD
TZOFFSETFROM:+0200
TZOFFSETTO:+0100
TZNAME:CET
DTSTART:20261025T010000
END:STANDARD
END:VTIMEZONE
BEGIN:VEVENT
DTSTART;VALUE=DATE:20250530
DTEND;VALUE=DATE:20250602
DTSTAMP:20260423T050542
CREATED:20250311T181714Z
LAST-MODIFIED:20250311T181714Z
UID:2077-1748563200-1748822399@www.corps-hubertia.com
SUMMARY:Besuch von u. lb. befreundeten Hubertia Freiburg
DESCRIPTION:
URL:https://www.corps-hubertia.com/event/besuch-von-u-lb-befreundeten-hubertia-freiburg/
LOCATION:adH Hubertia
END:VEVENT
BEGIN:VEVENT
DTSTART;VALUE=DATE:20250605
DTEND;VALUE=DATE:20250609
DTSTAMP:20260423T050542
CREATED:20250311T181925Z
LAST-MODIFIED:20250311T181939Z
UID:2079-1749081600-1749427199@www.corps-hubertia.com
SUMMARY:oKC in Bad Kösen
DESCRIPTION:
URL:https://www.corps-hubertia.com/event/okc-in-bad-koesen-ss25/
LOCATION:Bad Kösen
END:VEVENT
BEGIN:VEVENT
DTSTART;TZID=Europe/Berlin:20250613T200000
DTEND;TZID=Europe/Berlin:20250613T230000
DTSTAMP:20260423T050542
CREATED:20250311T182054Z
LAST-MODIFIED:20250311T182054Z
UID:2081-1749844800-1749855600@www.corps-hubertia.com
SUMMARY:Stiftungsfestkneipe
DESCRIPTION:
URL:https://www.corps-hubertia.com/event/stiftungsfestkneipe-ss25/
LOCATION:adH Hubertia
END:VEVENT
BEGIN:VEVENT
DTSTART;TZID=Europe/Berlin:20250614T160000
DTEND;TZID=Europe/Berlin:20250614T220000
DTSTAMP:20260423T050542
CREATED:20250311T182201Z
LAST-MODIFIED:20250311T182201Z
UID:2083-1749916800-1749938400@www.corps-hubertia.com
SUMMARY:Familienfest (❤️)
DESCRIPTION:
URL:https://www.corps-hubertia.com/event/familienfest-%e2%9d%a4%ef%b8%8f-ss25/
LOCATION:adH Hubertia
END:VEVENT
BEGIN:VEVENT
DTSTART;VALUE=DATE:20250619
DTEND;VALUE=DATE:20250620
DTSTAMP:20260423T050542
CREATED:20250311T182301Z
LAST-MODIFIED:20250311T183209Z
UID:2085-1750291200-1750377599@www.corps-hubertia.com
SUMMARY:Fronleichnamfrühschoppen
DESCRIPTION:
URL:https://www.corps-hubertia.com/event/fronleichnamfruehschoppen-ss25/
LOCATION:adH Hubertia
END:VEVENT
BEGIN:VEVENT
DTSTART;TZID=Europe/Berlin:20250626T180000
DTEND;TZID=Europe/Berlin:20250626T180000
DTSTAMP:20260423T050542
CREATED:20250311T182411Z
LAST-MODIFIED:20250311T182411Z
UID:2087-1750960800-1750960800@www.corps-hubertia.com
SUMMARY:Hubertenabend (❤️)
DESCRIPTION:
URL:https://www.corps-hubertia.com/event/hubertenabend-%e2%9d%a4%ef%b8%8f-ss25/
LOCATION:adH Hubertia
END:VEVENT
END:VCALENDAR